BEGIN:VCALENDAR
VERSION:2.0
PRODID:-//pretix//pretix.eu//
BEGIN:VTIMEZONE
TZID:Europe/Berlin
BEGIN:STANDARD
DTSTART:20001029T040000
RRULE:FREQ=YEARLY;BYDAY=-1SU;BYMONTH=10
TZNAME:CET
TZOFFSETFROM:+0200
TZOFFSETTO:+0100
END:STANDARD
BEGIN:DAYLIGHT
DTSTART:20000326T030000
RRULE:FREQ=YEARLY;BYDAY=-1SU;BYMONTH=3
TZNAME:CEST
TZOFFSETFROM:+0100
TZOFFSETTO:+0200
END:DAYLIGHT
END:VTIMEZONE
BEGIN:VEVENT
UID:pretix-afcaverlak-fu-ticketshop-fcaverlak-4095306@afcaverlak.vereinstic
 ket.de
DTSTART;TZID=Europe/Berlin:20240622T143000
DTEND;TZID=Europe/Berlin:20240622T200000
DESCRIPTION:Tickets: https://afcaverlak.vereinsticket.de/fu-ticketshop-fcav
 erlak/4095306/\nEinlass: 22.06.2024 13:00\nVeranstalter: Averlaker Fußbal
 l-Club von 1959
DTSTAMP:20260420T230253Z
LOCATION:Averlaker Sportplatz\, Am Sportplatz\, 25715 Averlak
SUMMARY:Tagesticket:Old FC Averlak - St. Pauli Traditionsmannschaft ab 18:0
 0 Uhr inkl. Vorspiel ab 14:30 Uhr
END:VEVENT
END:VCALENDAR
